BEGIN:VCALENDAR
METHOD:PUBLISH
VERSION:2.0
PRODID:-//WoltLab GmbH//WoltLab Suite Calendar 5.4//EN
CALSCALE:GREGORIAN
X-WR-CALNAME;VALUE=TEXT:Marine Aquarium Societies of North America Aquatic 
 Expo
BEGIN:VEVENT
TRANSP:TRANSPARENT
UID:event-1@aquariu.ms
URL:https://aquariu.ms/calendar/event/1-marine-aquarium-societies-of-north-
 america-aquatic-expo/
DTSTART;VALUE=DATE:20220402
DTSTAMP:20220402T000000Z
CREATED:20220402T000000Z
SUMMARY:Marine Aquarium Societies of North America Aquatic Expo
DESCRIPTION:Welcome to the Aquatic Expo:\n\nThe Date: April 2-3\, 2022\n\nT
 he Location: 2077 Convention Center Concourse #260\, Atlanta\, GA 30337\n\n
 Website: https://macna.org/aquatic-expo/\n\nWelcome to the Aquatic Expo in 
 Atlanta\, Georgia\, from April 2-3\, 2022.\n\nThis 2 day fresh and marine a
 quatic marketplace will provide an intimate footprint which will focus on a
 ttracting new hobbyists while providing experienced hobbyists direct access
  to exhibitors and unique retail opportunities.\n\nEducation is still a cor
 e feature of all that MACNA does\, as such we will have a small number of s
 peakers and workshops which are included in the daily passes.\n\nOur new 2 
 day show debuts in Atlanta at the Georgia International Convention Center a
 djacent to Atlanta’s Hartsfield Airport.\n\nIn lieu of a reception and banq
 uet\, we invite out of town attendees to enjoy the Georgia Aquarium and oth
 er nearby attractions at their leisure.
DTEND;VALUE=DATE:20220404
CATEGORIES:260
END:VEVENT
END:VCALENDAR
