BEGIN:VCALENDAR
METHOD:PUBLISH
VERSION:2.0
PRODID:-//WoltLab GmbH//WoltLab Suite Calendar 5.4//EN
CALSCALE:GREGORIAN
X-WR-CALNAME;VALUE=TEXT:All-Aquarium Catfish Convention 2022
BEGIN:VEVENT
TRANSP:TRANSPARENT
UID:event-10@aquariu.ms
URL:https://aquariu.ms/calendar/event/10-all-aquarium-catfish-convention-20
 22/
DTSTART;VALUE=DATE:20221007
DTSTAMP:20221007T000000Z
CREATED:20221007T000000Z
SUMMARY:All-Aquarium Catfish Convention 2022
DESCRIPTION:The Date: October 7-9\, 2022\n\nThe Location: 2300 Dulles Corne
 r Blvd. Herndon\, VA 20171\n\nWebsite: https://www.catfishcon.com\n\nCatfis
 hionados unite!  Join us for a fintastic weekend featuring expert speakers\
 , fish\, and other aquatic goodies to buy and sell\, social events\, vendor
 s\, demos\, our famous all-day auction\, and much more.  You'll be surround
 ed by like-minded aquarists who love to chat about their favorite whiskered
  fishes.  Hosted by the Potomac Valley Aquarium Society - a non-profit soci
 al and educational organization of aquarists in the Washington\, DC metro a
 rea.
DTEND;VALUE=DATE:20221010
END:VEVENT
END:VCALENDAR
