BEGIN:VCALENDAR
METHOD:PUBLISH
VERSION:2.0
PRODID:-//WoltLab GmbH//WoltLab Suite Calendar 5.4//EN
CALSCALE:GREGORIAN
X-WR-CALNAME;VALUE=TEXT:Kansas City Coral Show
BEGIN:VEVENT
TRANSP:OPAQUE
UID:event-11@aquariu.ms
URL:https://aquariu.ms/calendar/event/11-kansas-city-coral-show/
DTSTART:20221105T150000Z
DTSTAMP:20221105T150000Z
CREATED:20221105T150000Z
SUMMARY:Kansas City Coral Show
DESCRIPTION:The Date: November 5\, 2022\n\nThe Location: 8787 Reeder Road O
 verland Park\, KS 66214\n\nWebsite: N/A\n\nThe fourth annual Kansas City Co
 ral Show occurs on November 5th 2022. This event is hosted by the Coral Far
 mers Market company. Our 2022 coral show event will be open to the public b
 etween 11 am to 5 pm on Saturday November 5th. The location is a hotel ball
 room in Overland Park Kansas. Parking will be free for attendees. There wil
 l be a few thousand captive grown and cultured coral fragments displayed. F
 rom beginner corals to advanced and collector corals. We may even have a Re
 ef clownfish breeder in the house. This event will be hosted by Steve Tyree
 .
DTEND:20221105T210000Z
END:VEVENT
END:VCALENDAR
