BEGIN:VCALENDAR
METHOD:PUBLISH
VERSION:2.0
PRODID:-//WoltLab GmbH//WoltLab Suite Calendar 5.4//EN
CALSCALE:GREGORIAN
X-WR-CALNAME;VALUE=TEXT:Reefing USA Indianapolis
BEGIN:VEVENT
TRANSP:OPAQUE
UID:event-12@aquariu.ms
URL:https://aquariu.ms/calendar/event/12-reefing-usa-indianapolis/
DTSTART:20221113T160000Z
DTSTAMP:20221113T160000Z
CREATED:20221113T160000Z
SUMMARY:Reefing USA Indianapolis
DESCRIPTION:The Date: November 13\, 2022\n\nThe Location: 3912 Vincennes Rd
 \, Indianapolis\, IN 46268\n\nWebsite: https://www.facebook.com/Reefing-USA
 -101020215359424
DTEND:20221113T200000Z
END:VEVENT
END:VCALENDAR
