BEGIN:VCALENDAR
METHOD:PUBLISH
VERSION:2.0
PRODID:-//WoltLab GmbH//WoltLab Suite Calendar 5.4//EN
CALSCALE:GREGORIAN
X-WR-CALNAME;VALUE=TEXT:MACNA 2023: Inspiring Successful Reefkeeping
BEGIN:VEVENT
TRANSP:TRANSPARENT
UID:event-13@aquariu.ms
URL:https://aquariu.ms/calendar/event/13-macna-2023-inspiring-successful-re
 efkeeping/
DTSTART;VALUE=DATE:20230908
DTSTAMP:20230908T000000Z
CREATED:20230908T000000Z
SUMMARY:MACNA 2023: Inspiring Successful Reefkeeping
DESCRIPTION:The Date: September 8th-10\, 2023\n\nThe Location: 1000 Fort Du
 quesne Blvd\, Pittsburgh\, PA 15222\n\nWebsite: https://macna.org/macna2023
 / \n\nMoving back to the east coast\, MACNA 2023 Inspiring Successful Reefk
 eeping will inspire aspiring marine aquarium hobbyists\, as well as reinspi
 re those of us who have been keeping aquaria for decades.\n\nSharing the me
 thods that enable us to be successful will assist in allowing those who are
  new to reefkeeping to be equally as successful. Our speakers\, workshops\,
  and exhibitors will share their success stories with the MACNA 2023 commun
 ity.
DTEND;VALUE=DATE:20230911
END:VEVENT
END:VCALENDAR
