BEGIN:VCALENDAR
METHOD:PUBLISH
VERSION:2.0
PRODID:-//WoltLab GmbH//WoltLab Suite Calendar 5.4//EN
CALSCALE:GREGORIAN
X-WR-CALNAME;VALUE=TEXT:GREATER AUSTIN AQUARIUM SOCIETY 2023 TRADE SHOW
BEGIN:VEVENT
TRANSP:TRANSPARENT
UID:event-14@aquariu.ms
URL:https://aquariu.ms/calendar/event/14-greater-austin-aquarium-society-20
 23-trade-show/
DTSTART;VALUE=DATE:20230318
DTSTAMP:20230318T000000Z
CREATED:20230318T000000Z
SUMMARY:GREATER AUSTIN AQUARIUM SOCIETY 2023 TRADE SHOW
DESCRIPTION:The Date: March 18\, 2023\n\nThe Location: 8001 Centre Park Dri
 ve\, Austin\, TX 78754\n\nWebsite: https://www.austintexas.org/event/greate
 r-austin-aquarium-society-2023-trade-show/370691/\n\nShop\, Swap\, Sell! Ev
 erything aquariums from vendors\, aquatic businesses\, and fellow hobbyists
 . There will also be scheduled demos and presentations! Saltwater and Fresh
 water both welcome. Feel free to bring your plant clippings and used aquari
 um equipment.\n\nThis event is family friendly for all ages!
DTEND;VALUE=DATE:20230319
END:VEVENT
END:VCALENDAR
