BEGIN:VCALENDAR
METHOD:PUBLISH
VERSION:2.0
PRODID:-//WoltLab GmbH//WoltLab Suite Calendar 5.4//EN
CALSCALE:GREGORIAN
X-WR-CALNAME;VALUE=TEXT:AQUASHELLA Dallas
BEGIN:VEVENT
TRANSP:TRANSPARENT
UID:event-15@aquariu.ms
URL:https://aquariu.ms/calendar/event/15-aquashella-dallas/
DTSTART;VALUE=DATE:20230520
DTSTAMP:20230520T000000Z
CREATED:20230520T000000Z
SUMMARY:AQUASHELLA Dallas
DESCRIPTION:The Date: May 20-21\, 2023\n\nThe Location: 2200 N Stemmons Fwy
 \, Dallas\, TX 75207\n\nWebsite: https://aquashella.com/dallas/\n\nAQUASHEL
 LA IS AN EVENT FOR ALL AQUARIUM HOBBYISTS FROM BEGINNER TO EXPERT\, OR EVEN
  PEOPLE WHO DON’T HAVE AN AQUARIUM WHO WANT TO EXPERIENCE THE WONDERS OF AQ
 UARIUMS\, AND EXOTIC PETS.
DTEND;VALUE=DATE:20230522
END:VEVENT
END:VCALENDAR
