BEGIN:VCALENDAR
METHOD:PUBLISH
VERSION:2.0
PRODID:-//WoltLab GmbH//WoltLab Suite Calendar 5.4//EN
CALSCALE:GREGORIAN
X-WR-CALNAME;VALUE=TEXT:REEFAPALOOZA ORLANDO
BEGIN:VEVENT
TRANSP:TRANSPARENT
UID:event-16@aquariu.ms
URL:https://aquariu.ms/calendar/event/16-reefapalooza-orlando/
DTSTART;VALUE=DATE:20230422
DTSTAMP:20230422T000000Z
CREATED:20230422T000000Z
SUMMARY:REEFAPALOOZA ORLANDO
DESCRIPTION:The Date: April 22-23\, 2023\n\nThe Location: 8101 World Center
  Dr\, Orlando\, FL 32821\n\nWebsite: https://reefapaloozashow.net/pages/orl
 ando\n\nThis exciting two-day event will immerse you in the hottest corals\
 , some of the most renowned experts in the field\, and a variety of vendors
  offering the latest in aquarium gear and supplies. After the show\, head o
 ut to experience the best of Orlando. Choose between all of Orlando’s top r
 estaurants\, nightlife spots\, shopping districts\, sporting events\, museu
 ms\, and performing arts.
DTEND;VALUE=DATE:20230424
END:VEVENT
END:VCALENDAR
