BEGIN:VCALENDAR
METHOD:PUBLISH
VERSION:2.0
PRODID:-//WoltLab GmbH//WoltLab Suite Calendar 5.4//EN
CALSCALE:GREGORIAN
X-WR-CALNAME;VALUE=TEXT:AQUACULTURE AMERICA 2023
BEGIN:VEVENT
TRANSP:TRANSPARENT
UID:event-17@aquariu.ms
URL:https://aquariu.ms/calendar/event/17-aquaculture-america-2023/
DTSTART;VALUE=DATE:20230223
DTSTAMP:20230223T000000Z
CREATED:20230223T000000Z
SUMMARY:AQUACULTURE AMERICA 2023
DESCRIPTION:The Date: February 23-26\, 2023\n\nThe Location: 555 Canal Stre
 et New Orleans\, LA 70130\n\nWebsite: https://www.was.org/meeting\n\nAQUACU
 LTURE AMERICA 2023 returns to one of the favorite tourist spots in the worl
 d for the only major national aquaculture conference and exposition held in
  the U.S. The U.S. Aquaculture Society (formerly U.S. Chapter of WAS) joins
  with National Aquaculture Association and the Aquaculture Suppliers Associ
 ation to produce the annual Aquaculture America meetings.\n\nThe Conference
  is also the site for meetings organized by the Aquacultural Engineering So
 ciety\, Aquatic Drug Approval Coalition\, US Trout Farmers Association\, Ze
 brafish Husbandry Association and many more associations to make Aquacultur
 e America 2023 the one meeting in the U.S. that you don’t want to miss!
DTEND;VALUE=DATE:20230227
END:VEVENT
END:VCALENDAR
