BEGIN:VCALENDAR
METHOD:PUBLISH
VERSION:2.0
PRODID:-//WoltLab GmbH//WoltLab Suite Calendar 5.4//EN
CALSCALE:GREGORIAN
X-WR-CALNAME;VALUE=TEXT:ReefStock Denver
BEGIN:VEVENT
TRANSP:TRANSPARENT
UID:event-18@aquariu.ms
URL:https://aquariu.ms/calendar/event/18-reefstock-denver/
DTSTART;VALUE=DATE:20230304
DTSTAMP:20230304T000000Z
CREATED:20230304T000000Z
SUMMARY:ReefStock Denver
DESCRIPTION:The Date: March 4-5\, 2023\n\nThe Location: 15500 E 40th Ave\, 
 Denver\, CO 80239\n\nWebsite: https://reefstock.show/denver/
DTEND;VALUE=DATE:20230306
END:VEVENT
END:VCALENDAR
