BEGIN:VCALENDAR
METHOD:PUBLISH
VERSION:2.0
PRODID:-//WoltLab GmbH//WoltLab Suite Calendar 5.4//EN
CALSCALE:GREGORIAN
X-WR-CALNAME;VALUE=TEXT:ReefStock Australia
BEGIN:VEVENT
TRANSP:TRANSPARENT
UID:event-19@aquariu.ms
URL:https://aquariu.ms/calendar/event/19-reefstock-australia/
DTSTART;VALUE=DATE:20230826
DTSTAMP:20230826T000000Z
CREATED:20230826T000000Z
SUMMARY:ReefStock Australia
DESCRIPTION:The Date: August 26-27\, 2023\n\nThe Location: Reception entran
 ce via Murray Rose Ave &\, 1 Showground Rd\, Sydney Olympic Park NSW 2127\,
  Australia\n\nWebsite: https://reefstock.show/australia/
DTEND;VALUE=DATE:20230828
END:VEVENT
END:VCALENDAR
