BEGIN:VCALENDAR
METHOD:PUBLISH
VERSION:2.0
PRODID:-//WoltLab GmbH//WoltLab Suite Calendar 5.4//EN
CALSCALE:GREGORIAN
X-WR-CALNAME;VALUE=TEXT:Marine Aquarium Societies of North America MACNA 20
 22
BEGIN:VEVENT
TRANSP:TRANSPARENT
UID:event-2@aquariu.ms
URL:https://aquariu.ms/calendar/event/2-marine-aquarium-societies-of-north-
 america-macna-2022/
DTSTART;VALUE=DATE:20220909
DTSTAMP:20220909T000000Z
CREATED:20220909T000000Z
SUMMARY:Marine Aquarium Societies of North America MACNA 2022
DESCRIPTION:The Date: September 9-11\, 2022\n\nThe Location: 400 W Wisconsi
 n Ave\, Milwaukee\, WI 53203\n\nWebsite: https://macna.org/macna2022/\n\nTh
 e MASNA Board is proud to welcome you to MACNA 2022 Gathering and Growing\,
  in Milwaukee\, Wisconsin\, on the shores of Lake Michigan.\n\nWe look forw
 ard to having you join our community in Milwaukee\, Wisconsin as we come to
 gether to Gather and Grow.\n\nReunited after two years of virtual programs\
 , MACNA 2022 Gathering and Growing will bring our community together for th
 e largest MACNA to date.\n\nMACNA 2022 will enable us to gather as a commun
 ity\, bringing together the greatest educators\, businesses\, leaders\, cul
 tivators\, and pioneers to continue to share and educate.\n\nGrowing our in
 dustry in a sustainable manner has never been more important. MACNA 2022 wi
 ll lead the way through its exhibits\, speakers\, and programs as we contin
 ue to achieve new breakthroughs.\n\nMACNA 2022 will be held at the Wisconsi
 n Center\, with hotel rooms available at the historic Milwaukee Hilton City
  Center & the Hyatt Regency. Attendee tickets will go on sale in September 
 2021\, and exhibitor booths will be available from May 2021.\n\nContinue to
  check in at MACNA.org over the summer for additional information.
DTEND;VALUE=DATE:20220912
END:VEVENT
END:VCALENDAR
