BEGIN:VCALENDAR
METHOD:PUBLISH
VERSION:2.0
PRODID:-//WoltLab GmbH//WoltLab Suite Calendar 5.4//EN
CALSCALE:GREGORIAN
X-WR-CALNAME;VALUE=TEXT:American Cichlid Association’s 50th National Conven
 tion
BEGIN:VEVENT
TRANSP:TRANSPARENT
UID:event-3@aquariu.ms
URL:https://aquariu.ms/calendar/event/3-american-cichlid-association-s-50th
 -national-convention/
DTSTART;VALUE=DATE:20220727
DTSTAMP:20220727T000000Z
CREATED:20220727T000000Z
SUMMARY:American Cichlid Association’s 50th National Convention
DESCRIPTION:The Date: July 27-31\, 2022\n\nThe Location: 1903 Embassy Squar
 e Blvd\, Louisville\, KY 40299\n\nWebsite: https://convention.cichlid.org/\
 n\nThe Louisville Tropical Fish Fancier’s Inc. and the Marriott East Hotel 
 are proud to host the American Cichlid Association’s 50th National Conventi
 on. Yes\, what a milestone!  Fifty years of cichlid conventions and countin
 g! Louisville\, your host city\, is well known for its bourbon-rich heritag
 e\, fast horses\, and just good old southern hospitality.  There will be pl
 enty of opportunities to obtain that rare bag of cichlids that you just can
 ’t find anywhere but at an ACA convention.  In addition\, the speaker list 
 is second to none.  So\, sit back and enjoy this fishy weekend to its fulle
 st.\n\nIf any questions arise\, please feel free to ask any of our many vol
 unteers with the Cobalt Blue STAFF shirts. We are all here to have an enjoy
 able stay.
DTEND;VALUE=DATE:20220801
END:VEVENT
END:VCALENDAR
