BEGIN:VCALENDAR
METHOD:PUBLISH
VERSION:2.0
PRODID:-//WoltLab GmbH//WoltLab Suite Calendar 5.4//EN
CALSCALE:GREGORIAN
X-WR-CALNAME;VALUE=TEXT:Reef-A-Palooza Chicago
BEGIN:VEVENT
TRANSP:TRANSPARENT
UID:event-4@aquariu.ms
URL:https://aquariu.ms/calendar/event/4-reef-a-palooza-chicago/
DTSTART;VALUE=DATE:20211016
DTSTAMP:20211016T000000Z
CREATED:20211016T000000Z
SUMMARY:Reef-A-Palooza Chicago
DESCRIPTION:The Date: October 16-17\, 2021\n\nThe Location: 1551 Thoreau Dr
  N\, Schaumburg\, IL 60173\n\nWebsite: https://www.reefapaloozashow.net/chi
 cago/\n\nReef-A-Palooza Chicago will be in the Renaissance Schaumburg Conve
 ntion Center Hotel in Schaumburg\, Illinois on October 16-17\, 2021. Chicag
 o was a success for our inaugural year and is now part of our show lineup\,
  along with Reef-A-Palooza shows located in California\, Orlando and New Yo
 rk.\n\nReef-A-Palooza can best be described as an indoor marketplace where 
 sellers\, exhibitors\, and hobbyists of all types can buy\, sell\, trade\, 
 showcase their products to the marine hobbyist community.
DTEND;VALUE=DATE:20211018
END:VEVENT
END:VCALENDAR
