BEGIN:VCALENDAR
METHOD:PUBLISH
VERSION:2.0
PRODID:-//WoltLab GmbH//WoltLab Suite Calendar 5.4//EN
CALSCALE:GREGORIAN
X-WR-CALNAME;VALUE=TEXT:Reef-A-Palooza New York
BEGIN:VEVENT
TRANSP:TRANSPARENT
UID:event-5@aquariu.ms
URL:https://aquariu.ms/calendar/event/5-reef-a-palooza-new-york/
DTSTART;VALUE=DATE:20220625
DTSTAMP:20220625T000000Z
CREATED:20220625T000000Z
SUMMARY:Reef-A-Palooza New York
DESCRIPTION:The Date: July 25-26\, 2022\n\nThe Location: 355 Plaza Drive\, 
 Secaucus\, New Jersey 07094\n\nWebsite: https://www.reefapaloozashow.net/ne
 wyork/\n\nReef-A-Palooza New York is going on it’s 6th year in bringing to 
 the Northeast the largest saltwater aquarium show in America. Join us at th
 e Meadowlands Exposition Center in Secaucus\, New Jersey on June 25-26\, 20
 22.\n\nReef-A-Palooza can best be described as an indoor marketplace where 
 sellers\, exhibitors\, and hobbyists of all types can buy\, sell\, trade\, 
 showcase their products to the marine hobbyist community.
DTEND;VALUE=DATE:20220627
END:VEVENT
END:VCALENDAR
