BEGIN:VCALENDAR
METHOD:PUBLISH
VERSION:2.0
PRODID:-//WoltLab GmbH//WoltLab Suite Calendar 5.4//EN
CALSCALE:GREGORIAN
X-WR-CALNAME;VALUE=TEXT:Reef-A-Palooza Orlando
BEGIN:VEVENT
TRANSP:TRANSPARENT
UID:event-6@aquariu.ms
URL:https://aquariu.ms/calendar/event/6-reef-a-palooza-orlando/
DTSTART;VALUE=DATE:20220423
DTSTAMP:20220423T000000Z
CREATED:20220423T000000Z
SUMMARY:Reef-A-Palooza Orlando
DESCRIPTION:The Date: April 23-24\, 2022\n\nThe Location: 8101 World Center
  Dr\, Orlando\, FL 32821\n\nWebsite: https://www.reefapaloozashow.net/orlan
 do/\n\nReef-A-Palooza Chicago will be in the Renaissance Schaumburg Convent
 ion Center Hotel in Schaumburg\, Illinois on October 16-17\, 2021. Chicago 
 was a success for our inaugural year and is now part of our show lineup\, a
 long with Reef-A-Palooza shows located in California\, Orlando and New York
 .\n\nReef-A-Palooza can best be described as an indoor marketplace where se
 llers\, exhibitors\, and hobbyists of all types can buy\, sell\, trade\, sh
 owcase their products to the marine hobbyist community.
DTEND;VALUE=DATE:20220425
END:VEVENT
END:VCALENDAR
