BEGIN:VCALENDAR
METHOD:PUBLISH
VERSION:2.0
PRODID:-//WoltLab GmbH//WoltLab Suite Calendar 5.4//EN
CALSCALE:GREGORIAN
X-WR-CALNAME;VALUE=TEXT:AQUASHELL Chicago
BEGIN:VEVENT
TRANSP:TRANSPARENT
UID:event-8@aquariu.ms
URL:https://aquariu.ms/calendar/event/8-aquashell-chicago/
DTSTART;VALUE=DATE:20221008
DTSTAMP:20221008T000000Z
CREATED:20221008T000000Z
SUMMARY:AQUASHELL Chicago
DESCRIPTION:The Date: October 8-9\, 2022\n\nThe Location: 1551 Thoreau Dr N
 \, Schaumburg\, IL 60173\n\nWebsite: https://aquashella.com/CHICAGO\n\nAQUA
 SHELLA IS AN EVENT FOR ALL AQUARIUM HOBBYISTS FROM BEGINNER TO EXPERT\, OR 
 EVEN PEOPLE WHO DON’T HAVE AN AQUARIUM WHO WANT TO EXPERIENCE THE WONDERS O
 F AQUARIUMS\, AND EXOTIC PETS.
DTEND;VALUE=DATE:20221010
END:VEVENT
END:VCALENDAR
