BEGIN:VCALENDAR
METHOD:PUBLISH
VERSION:2.0
PRODID:-//WoltLab GmbH//WoltLab Suite Calendar 5.4//EN
CALSCALE:GREGORIAN
X-WR-CALNAME;VALUE=TEXT:AQUASHELL Dallas
BEGIN:VEVENT
TRANSP:TRANSPARENT
UID:event-9@aquariu.ms
URL:https://aquariu.ms/calendar/event/9-aquashell-dallas/
DTSTART;VALUE=DATE:20220806
DTSTAMP:20220806T000000Z
CREATED:20220806T000000Z
SUMMARY:AQUASHELL Dallas
DESCRIPTION:The Date: August 6-7\, 2022\n\nThe Location: 2200 N Stemmons Fw
 y\, Dallas\, TX 75207\n\nWebsite: https://aquashella.com/dallas\n\nAQUASHEL
 LA IS AN EVENT FOR ALL AQUARIUM HOBBYISTS FROM BEGINNER TO EXPERT\, OR EVEN
  PEOPLE WHO DON’T HAVE AN AQUARIUM WHO WANT TO EXPERIENCE THE WONDERS OF AQ
 UARIUMS\, AND EXOTIC PETS.
DTEND;VALUE=DATE:20220808
END:VEVENT
END:VCALENDAR
